BEGIN:VCALENDAR
VERSION:2.0
PRODID:-//cc sulingen - ECPv6.0.1.1//NONSGML v1.0//EN
CALSCALE:GREGORIAN
METHOD:PUBLISH
X-ORIGINAL-URL:https://cc-sulingen.de
X-WR-CALDESC:Veranstaltungen für cc sulingen
REFRESH-INTERVAL;VALUE=DURATION:PT1H
X-Robots-Tag:noindex
X-PUBLISHED-TTL:PT1H
BEGIN:VTIMEZONE
TZID:Europe/Berlin
BEGIN:DAYLIGHT
TZOFFSETFROM:+0100
TZOFFSETTO:+0200
TZNAME:CEST
DTSTART:20210328T010000
END:DAYLIGHT
BEGIN:STANDARD
TZOFFSETFROM:+0200
TZOFFSETTO:+0100
TZNAME:CET
DTSTART:20211031T010000
END:STANDARD
END:VTIMEZONE
BEGIN:VEVENT
DTSTART;TZID=Europe/Berlin:20211102T200000
DTEND;TZID=Europe/Berlin:20211102T213000
DTSTAMP:20260426T003751
CREATED:20210727T160507Z
LAST-MODIFIED:20210727T160633Z
UID:423-1635883200-1635888600@cc-sulingen.de
SUMMARY:Computer Club Treffen
DESCRIPTION:Thema: Whats App Funktionen\nReferent Karsten Fischer
URL:https://cc-sulingen.de/event/computer-club-treffen-23/
LOCATION:Clubraum Bürgerhaus\, Lange Str. 67\, Sulingen\, 27211\, Deutschland
CATEGORIES:öffentlich,Vereinsmitglieder
END:VEVENT
END:VCALENDAR