BEGIN:VCALENDAR
VERSION:2.0
PRODID:-//cc sulingen - ECPv6.0.1.1//NONSGML v1.0//EN
CALSCALE:GREGORIAN
METHOD:PUBLISH
X-WR-CALNAME:cc sulingen
X-ORIGINAL-URL:https://cc-sulingen.de
X-WR-CALDESC:Veranstaltungen für cc sulingen
REFRESH-INTERVAL;VALUE=DURATION:PT1H
X-Robots-Tag:noindex
X-PUBLISHED-TTL:PT1H
BEGIN:VTIMEZONE
TZID:Europe/Berlin
BEGIN:DAYLIGHT
TZOFFSETFROM:+0100
TZOFFSETTO:+0200
TZNAME:CEST
DTSTART:20230326T010000
END:DAYLIGHT
BEGIN:STANDARD
TZOFFSETFROM:+0200
TZOFFSETTO:+0100
TZNAME:CET
DTSTART:20231029T010000
END:STANDARD
END:VTIMEZONE
BEGIN:VEVENT
DTSTART;TZID=Europe/Berlin:20230502T200000
DTEND;TZID=Europe/Berlin:20230502T213000
DTSTAMP:20260424T175505
CREATED:20230419T081139Z
LAST-MODIFIED:20230419T081139Z
UID:454-1683057600-1683063000@cc-sulingen.de
SUMMARY:Jahreshauptversammlung 2023
DESCRIPTION:Der Vorstand des Computerclub Sulingen e.V. lädt Sie zur Jahreshauptversammlung 2023 ein. \nDienstag\, dem 02. Mai 2023\nIm Bürgerhaus Sulingen (Vereinsraum 1.Etage)\nUm 20:00 Uhr
URL:https://cc-sulingen.de/event/jahreshauptversammlung-2023/
LOCATION:Clubraum Bürgerhaus\, Lange Str. 67\, Sulingen\, 27211\, Deutschland
CATEGORIES:Vereinsmitglieder
END:VEVENT
END:VCALENDAR