BEGIN:VCALENDAR
VERSION:2.0
PRODID:-//cc sulingen - ECPv6.0.1.1//NONSGML v1.0//EN
CALSCALE:GREGORIAN
METHOD:PUBLISH
X-ORIGINAL-URL:https://cc-sulingen.de
X-WR-CALDESC:Veranstaltungen für cc sulingen
REFRESH-INTERVAL;VALUE=DURATION:PT1H
X-Robots-Tag:noindex
X-PUBLISHED-TTL:PT1H
BEGIN:VTIMEZONE
TZID:Europe/Berlin
BEGIN:DAYLIGHT
TZOFFSETFROM:+0100
TZOFFSETTO:+0200
TZNAME:CEST
DTSTART:20210328T010000
END:DAYLIGHT
BEGIN:STANDARD
TZOFFSETFROM:+0200
TZOFFSETTO:+0100
TZNAME:CET
DTSTART:20211031T010000
END:STANDARD
END:VTIMEZONE
BEGIN:VEVENT
DTSTART;TZID=Europe/Berlin:20210727T180000
DTEND;TZID=Europe/Berlin:20210727T223000
DTSTAMP:20260426T055616
CREATED:20210727T155538Z
LAST-MODIFIED:20210727T155609Z
UID:413-1627408800-1627425000@cc-sulingen.de
SUMMARY:Grillfest 2021
DESCRIPTION:in Barrien Nr. 13 bei Heike und Henning
URL:https://cc-sulingen.de/event/grillfest-2021/
CATEGORIES:Vereinsmitglieder
END:VEVENT
END:VCALENDAR