BEGIN:VCALENDAR
VERSION:2.0
PRODID:-//cc sulingen - ECPv6.0.1.1//NONSGML v1.0//EN
CALSCALE:GREGORIAN
METHOD:PUBLISH
X-WR-CALNAME:cc sulingen
X-ORIGINAL-URL:https://cc-sulingen.de
X-WR-CALDESC:Veranstaltungen für cc sulingen
REFRESH-INTERVAL;VALUE=DURATION:PT1H
X-Robots-Tag:noindex
X-PUBLISHED-TTL:PT1H
BEGIN:VTIMEZONE
TZID:Europe/Berlin
BEGIN:DAYLIGHT
TZOFFSETFROM:+0100
TZOFFSETTO:+0200
TZNAME:CEST
DTSTART:20210328T010000
END:DAYLIGHT
BEGIN:STANDARD
TZOFFSETFROM:+0200
TZOFFSETTO:+0100
TZNAME:CET
DTSTART:20211031T010000
END:STANDARD
END:VTIMEZONE
BEGIN:VEVENT
DTSTART;TZID=Europe/Berlin:20210824T200000
DTEND;TZID=Europe/Berlin:20210824T220000
DTSTAMP:20260426T040808
CREATED:20210727T155717Z
LAST-MODIFIED:20210727T155717Z
UID:415-1629835200-1629842400@cc-sulingen.de
SUMMARY:Jahreshauptversammlung 2021
DESCRIPTION:Der Vorstand des Computerclub Sulingen e.V. lädt Sie zur Jahreshauptversammlung 2021 ein. \nDienstag\, dem 24. August 2021\nIm Bürgerhaus Sulingen (Vereinsraum 1.Etage)\nUm 20:00 Uhr
URL:https://cc-sulingen.de/event/jahreshauptversammlung-2021/
CATEGORIES:Vereinsmitglieder
END:VEVENT
END:VCALENDAR