BEGIN:VCALENDAR
VERSION:2.0
PRODID:-//cc sulingen - ECPv6.0.1.1//NONSGML v1.0//EN
CALSCALE:GREGORIAN
METHOD:PUBLISH
X-WR-CALNAME:cc sulingen
X-ORIGINAL-URL:https://cc-sulingen.de
X-WR-CALDESC:Veranstaltungen für cc sulingen
REFRESH-INTERVAL;VALUE=DURATION:PT1H
X-Robots-Tag:noindex
X-PUBLISHED-TTL:PT1H
BEGIN:VTIMEZONE
TZID:Europe/Berlin
BEGIN:DAYLIGHT
TZOFFSETFROM:+0100
TZOFFSETTO:+0200
TZNAME:CEST
DTSTART:20220327T010000
END:DAYLIGHT
BEGIN:STANDARD
TZOFFSETFROM:+0200
TZOFFSETTO:+0100
TZNAME:CET
DTSTART:20221030T010000
END:STANDARD
END:VTIMEZONE
BEGIN:VEVENT
DTSTART;TZID=Europe/Berlin:20221004T200000
DTEND;TZID=Europe/Berlin:20221004T200000
DTSTAMP:20260425T043744
CREATED:20221001T075528Z
LAST-MODIFIED:20221001T075528Z
UID:434-1664913600-1664913600@cc-sulingen.de
SUMMARY:Computer Club Treffen
DESCRIPTION:Thema: Smart Home TV\nReferent Matthias Wendland
URL:https://cc-sulingen.de/event/computer-club-treffen-26/
LOCATION:Clubraum Bürgerhaus\, Lange Str. 67\, Sulingen\, 27211\, Deutschland
CATEGORIES:öffentlich,Vereinsmitglieder
END:VEVENT
BEGIN:VEVENT
DTSTART;TZID=Europe/Berlin:20221018T200000
DTEND;TZID=Europe/Berlin:20221018T200000
DTSTAMP:20260425T043744
CREATED:20221001T075637Z
LAST-MODIFIED:20221001T075637Z
UID:436-1666123200-1666123200@cc-sulingen.de
SUMMARY:Computer Club Treffen
DESCRIPTION:Thema: Windows 11\nReferent: Karsten Fischer
URL:https://cc-sulingen.de/event/computer-club-treffen-27/
LOCATION:Clubraum Bürgerhaus\, Lange Str. 67\, Sulingen\, 27211\, Deutschland
CATEGORIES:öffentlich,Vereinsmitglieder
END:VEVENT
END:VCALENDAR