BEGIN:VCALENDAR
VERSION:2.0
PRODID:-//cc sulingen - ECPv6.0.1.1//NONSGML v1.0//EN
CALSCALE:GREGORIAN
METHOD:PUBLISH
X-WR-CALNAME:cc sulingen
X-ORIGINAL-URL:https://cc-sulingen.de
X-WR-CALDESC:Veranstaltungen für cc sulingen
REFRESH-INTERVAL;VALUE=DURATION:PT1H
X-Robots-Tag:noindex
X-PUBLISHED-TTL:PT1H
BEGIN:VTIMEZONE
TZID:Europe/Berlin
BEGIN:DAYLIGHT
TZOFFSETFROM:+0100
TZOFFSETTO:+0200
TZNAME:CEST
DTSTART:20230326T010000
END:DAYLIGHT
BEGIN:STANDARD
TZOFFSETFROM:+0200
TZOFFSETTO:+0100
TZNAME:CET
DTSTART:20231029T010000
END:STANDARD
END:VTIMEZONE
BEGIN:VEVENT
DTSTART;TZID=Europe/Berlin:20230704T190000
DTEND;TZID=Europe/Berlin:20230704T230000
DTSTAMP:20260424T131034
CREATED:20230419T081803Z
LAST-MODIFIED:20230419T081803Z
UID:463-1688497200-1688511600@cc-sulingen.de
SUMMARY:Sommerfest
DESCRIPTION:Sommerfest 2023 \nStandort und genaue Zeit werden noch bekannt gegeben.
URL:https://cc-sulingen.de/event/sommerfest/
CATEGORIES:Vereinsmitglieder
END:VEVENT
END:VCALENDAR