BEGIN:VCALENDAR
VERSION:2.0
PRODID:-//cc sulingen - ECPv6.0.1.1//NONSGML v1.0//EN
CALSCALE:GREGORIAN
METHOD:PUBLISH
X-WR-CALNAME:cc sulingen
X-ORIGINAL-URL:https://cc-sulingen.de
X-WR-CALDESC:Veranstaltungen für cc sulingen
REFRESH-INTERVAL;VALUE=DURATION:PT1H
X-Robots-Tag:noindex
X-PUBLISHED-TTL:PT1H
BEGIN:VTIMEZONE
TZID:Europe/Berlin
BEGIN:DAYLIGHT
TZOFFSETFROM:+0100
TZOFFSETTO:+0200
TZNAME:CEST
DTSTART:20240331T010000
END:DAYLIGHT
BEGIN:STANDARD
TZOFFSETFROM:+0200
TZOFFSETTO:+0100
TZNAME:CET
DTSTART:20241027T010000
END:STANDARD
END:VTIMEZONE
BEGIN:VEVENT
DTSTART;TZID=Europe/Berlin:20240416T200000
DTEND;TZID=Europe/Berlin:20240416T213000
DTSTAMP:20260423T215941
CREATED:20240414T112828Z
LAST-MODIFIED:20240414T112932Z
UID:477-1713297600-1713303000@cc-sulingen.de
SUMMARY:Computer Club Treffen
DESCRIPTION:Umgang mit Sozialen Medien im Fokus: Veranstaltung am Dienstag \nAm Dienstagabend\, steht ein Ereignis im Mittelpunkt\, das für viele von uns in der modernen Welt von großer Bedeutung ist: Der Umgang mit Sozialen Medien. In einer Zeit\, in der Plattformen wie Instagram\, Facebook und andere zu einem integralen Bestandteil unseres täglichen Lebens geworden sind\, ist es entscheidend\, über deren Nutzung und Auswirkungen informiert zu sein. \nDie Veranstaltung\, bietet eine einzigartige Gelegenheit\, sich über die aktuellen Trends\, Herausforderungen und Chancen im Bereich der Sozialen Medien auszutauschen. Als Referent tritt Herr Thanh Nguyen\, der Inhaber von Simble\, auf. Mit seiner langjährigen Erfahrung und Expertise wird er wertvolle Einblicke und praktische Ratschläge zum Thema liefern. \nEingeladen sind nicht nur Einzelpersonen\, sondern auch Unternehmen\, die im Bereich der Sozialen Medien aktiv sind oder darüber nachdenken\, dies zu tun. Ob Sie nun ein etabliertes Unternehmen sind\, das seine Online-Präsenz optimieren möchte\, oder eine Privatperson\, die mehr über den verantwortungsvollen Umgang mit Sozialen Medien erfahren möchte – diese Veranstaltung ist für jeden von Interesse. \nIn einer Welt\, in der Informationen schnell verbreitet werden und das Bild\, das wir online präsentieren\, oft einen bleibenden Eindruck hinterlässt\, ist es unerlässlich\, sich bewusst zu machen\, wie wir Soziale Medien nutzen. Diese Veranstaltung bietet die Möglichkeit\, sich mit Gleichgesinnten zu vernetzen\, Fragen zu stellen und wertvolle Erkenntnisse zu gewinnen. \nMachen Sie sich bereit\, Ihre Sozialen Medienkenntnisse zu erweitern und sich auf eine informative und inspirierende Veranstaltung einzulassen!
URL:https://cc-sulingen.de/event/computer-club-treffen-35/
LOCATION:Clubraum Bürgerhaus\, Lange Str. 67\, Sulingen\, 27211\, Deutschland
CATEGORIES:öffentlich,Vereinsmitglieder
END:VEVENT
END:VCALENDAR